BEGIN:VCALENDAR
VERSION:2.0
PRODID:-//https://www.heartofyorkshire.ac.uk///NONSGML kigkonsult.se iCalcreator 2.10.15//
METHOD:PUBLISH
BEGIN:VEVENT
UID:20260425T103012UTC-0807vAIzBA@https://www.heartofyorkshire.ac.uk/
DTSTAMP:20260425T103012Z
DESCRIPTION:Attendees will be able to find out more about our A Levels\, T 
 Levels\, Vocational courses\, Apprenticeships\, Higher Education and Adult
  Learning Courses\, as well as visiting a range of student support areas.
 \nRegister https://www.heartofyorkshire.ac.uk/news-events/events/event/13-
 selby-college-open-event
DTSTART:20241120T170000Z
DTEND:20241120T190000Z
LOCATION:Selby College ()
SUMMARY:Selby College Open Event
URL:https://www.heartofyorkshire.ac.uk/news-events/events/event/13-selby-co
 llege-open-event
END:VEVENT
END:VCALENDAR
