BEGIN:VCALENDAR
VERSION:2.0
PRODID:-//https://www.heartofyorkshire.ac.uk///NONSGML kigkonsult.se iCalcreator 2.10.15//
METHOD:PUBLISH
BEGIN:VEVENT
UID:20260420T183502UTC-5958TmvuuD@https://www.heartofyorkshire.ac.uk/
DTSTAMP:20260420T183502Z
DESCRIPTION:Visit our Open Event to find out more about our courses\, talk 
 to the tutors and take a tour of our fantastic facilities. Your career sta
 rts here and we’ll be covering options for school leavers\, including T Le
 vels and Apprenticeships\, higher education and options for adults.\nRegis
 ter\nVocational Courses- Automotive\, Childcare\, Early Years & Childhood 
 Studies\, Construction\, Engineering\, Hair & Beauty\, Health\, Social Car
 e & Wellbeing.\nT Levels- Childcare\, Early Years & Childhood Studies\, Bu
 ilding Services Engineering for Construction\nApprenticeships - various pa
 thways \nCourses for Adults- Automotive (Motorcycle & Motor Vehicle)\, Con
 struction & Civil Engineering\, Childcare\, Engineering/Welding\, Hair & B
 eauty\, Maths & English.\nAccess to HE - Construction https://www.heartofy
 orkshire.ac.uk/news-events/events/event/14-castleford-college-open-event
DTSTART:20241123T100000Z
DTEND:20241123T120000Z
LOCATION:Castleford College ()
SUMMARY:Castleford College Open Event
URL:https://www.heartofyorkshire.ac.uk/news-events/events/event/14-castlefo
 rd-college-open-event
END:VEVENT
END:VCALENDAR
