BEGIN:VCALENDAR
VERSION:2.0
PRODID:-//https://www.heartofyorkshire.ac.uk///NONSGML kigkonsult.se iCalcreator 2.10.15//
METHOD:PUBLISH
BEGIN:VEVENT
UID:20260423T035413UTC-5463zadSuR@https://www.heartofyorkshire.ac.uk/
DTSTAMP:20260423T035413Z
DESCRIPTION:Thinking about your future?If you’re interested in Wakefield Co
 llege and want to discover more about what you can study here\, come along
  to one of our Open Events!\nAt our Open Events\, you can:\n\nSpeak to tut
 ors and current students about courses and college life\nExplore our build
 ings and facilities - all areas will be open to visitors\nAttend a Welcome
  Talk by the Local College Director to hear what it’s like to study here\n
 Visit subject areas to find the right course for you\nChat to our support 
 staff about additional support\, finance\, careers\, wellbeing and much mo
 re\nPick up a prospectus or course guide to take home\nApply on the day\nV
 isit the onsite Starbucks Café and grab a hot drink\n\nOpen Events are ope
 n to everyone – whether you’re considering A Levels\, Vocational Technical
  Qualifications\, T Levels\, apprenticeships\, adult learning or universit
 y-level study\, you’ll find out everything you need to know.  https://www.
 heartofyorkshire.ac.uk/news-events/events/event/41-wakefield-college-open-
 event
DTSTART:20260610T170000Z
DTEND:20260610T190000Z
LOCATION:Wakefield College ()
SUMMARY:Wakefield College Open Event
URL:https://www.heartofyorkshire.ac.uk/news-events/events/event/41-wakefiel
 d-college-open-event
END:VEVENT
END:VCALENDAR
